BEGIN:VCALENDAR
VERSION:2.0
PRODID:-//ΒΜΦ - ECPv6.0.7.1//NONSGML v1.0//EN
CALSCALE:GREGORIAN
METHOD:PUBLISH
X-WR-CALNAME:ΒΜΦ
X-ORIGINAL-URL:https://gasmuseum.gr
X-WR-CALDESC:ΒΜΦ - Εκδηλώσεις
REFRESH-INTERVAL;VALUE=DURATION:PT1H
X-Robots-Tag:noindex
X-PUBLISHED-TTL:PT1H
BEGIN:VTIMEZONE
TZID:Europe/Moscow
BEGIN:STANDARD
TZOFFSETFROM:+0300
TZOFFSETTO:+0300
TZNAME:MSK
DTSTART:20260101T000000
END:STANDARD
END:VTIMEZONE
BEGIN:VEVENT
DTSTART;TZID=Europe/Moscow:20260208T110000
DTEND;TZID=Europe/Moscow:20260607T133000
DTSTAMP:20260421T142038
CREATED:20260122T151652Z
LAST-MODIFIED:20260306T133321Z
UID:13556-1770548400-1780839000@gasmuseum.gr
SUMMARY:Εικαστικά εργαστήρια για παιδιά στο ΒΜΦ | Φεβρουάριος – Ιούνιος 2026
DESCRIPTION:Η αγαπημένη σειρά εικαστικών εργαστηρίων «Στον Πύργο του Εργοστασίου» και «Στην Αυλή του Εργοστασίου» του Βιομηχανικού Μουσείου Φωταερίου για παιδιά ηλικίας 3 έως 10 ετών επιστρέφει στην Τεχνόπολη Δήμου Αθηναίων. Μία Κυριακή τον μήνα\, από τον Φεβρουάριο έως τον Ιούνιο\, τα παιδιά αντλούν έμπνευση από τον μοναδικό βιομηχανικό χώρο του πρώτου εργοστασίου παραγωγής ενέργειας που φώτιζε την Αθήνα για περισσότερα από 120 χρόνια\, έρχονται σε επαφή με τις πρώτες ύλες του εργοστασίου\, ανακαλύπτουν τις υφές και τις ποιότητες του κάθε υλικού και δημιουργούν τα δικά τους αυθεντικά έργα τέχνης. \nΚάθε εργαστήριο προσαρμόζεται στις ηλικιακές ομάδες και επικεντρώνεται σε ένα συγκεκριμένο υλικό που συνδέεται με τη λειτουργία του παλιού εργοστασίου – από το μέταλλο\, μέχρι το κάρβουνο\, το νήμα\, το χαρτί και τα ανακυκλώσιμα πλαστικά. Τα παιδιά εξερευνούν το «περιβάλλον» κάθε υλικού\, δοκιμάζουν τις δυνατότητές του\, πειραματίζονται με ειδικές τεχνικές και του δίνουν μορφή\, δημιουργώντας ένα πραγματικό έργο τέχνης. \nΤα εργαστήρια πραγματοποιούνται στον Πύργο του Εργοστασίου (κτίριο Νέο Υδαταέριο) και από την άνοιξη\, όταν ο καιρός το επιτρέπει\, στην Αυλή του Εργοστασίου (υπαίθριος χώρος Skywalk). \nΑναλυτικά τα εργαστήρια: \nΚυριακή 8 Φεβρουαρίου | Στον Πύργο του εργοστασίου – Παίζοντας με σύρματα \nΠόσο εύκολα λυγίζει το μέταλλο; Πού το συναντάμε μέσα στο εργοστάσιο; Τα παιδιά συλλέγουν όσα περισσότερα μεταλλικά εξαρτήματα μπορούν και δημιουργούν ένα γλυπτό που αλλάζει σχήμα όποτε το θελήσουν. \n11:00–12:00 | για παιδιά 3–5 ετών \n12:30–13:30 | για παιδιά 6–10 ετών \nΚυριακή 8 Μαρτίου | Στον Πύργο του εργοστασίου – Ζωγραφίζοντας με κάρβουνο \nΠόσο λερώνει το κάρβουνο; Τι ήχο κάνει πάνω στο χαρτί; Ήξερες ότι το κάρβουνο υπήρχε σε τεράστιες ποσότητες μέσα στο εργοστάσιο; Με αφορμή την πρώτη ύλη για την παρασκευή του φωταερίου\, τα παιδιά μαζεύουν όσο περισσότερο κάρβουνο μπορούν και ζωγραφίζουν ένα μοναδικό έργο τέχνης. \n11:00–12:00 | για παιδιά 3–5 ετών \n12:30–13:30 | για παιδιά 6–10 ετών \nΚυριακή 5 Απριλίου | Στην Αυλή του εργοστασίου – Παίζοντας με νήματα \nΤι χρειάζεται για να φτιαχτεί μια τόσο δα μικρή κλωστή; Πόσα μέτρα νήμα χρειάζονται για να τυλίξουμε μια δεξαμενή φωταερίου; Τα παιδιά ανακαλύπτουν πόσο εύκολο είναι να φτιάξεις ένα κομμάτι ύφασμα και δημιουργούν μια απαλή\, υφασμάτινη κατασκευή. \n11:00–12:00 | για παιδιά 3–5 ετών \n12:30–13:30 | για παιδιά 6–10 ετών \nΚυριακή 24 Μαΐου | Στην Αυλή του εργοστασίου – Κατασκευάζοντας με χαρτόνι \nΤι ήχο κάνει το χαρτί όταν τσαλακώνεται; Πόσο ψηλό μπορεί να γίνει ένα χάρτινο μηχάνημα; Πόσα μηχανήματα χωράνε σ’ ένα χάρτινο κουτί; Τα παιδιά φτιάχνουν την πιο πολύχρωμη\, χάρτινη εκδοχή του εργοστασίου. \n11:00–12:00 | για παιδιά 3–5 ετών \n12:30–13:30 | για παιδιά 6–10 ετών \nΚυριακή 7 Ιουνίου | Στην Αυλή του εργοστασίου – Παίζοντας με πλαστικά και άλλα ανακυκλώσιμα υλικά \nΠόσα πλαστικά αντικείμενα βρίσκονται γύρω μας; Είναι σκουπίδια ή θησαυρός; Τι σχέση έχει το πλαστικό με το καλοκαίρι; Τα παιδιά ανακαλύπτουν «θησαυρούς» από ανακυκλώσιμα υλικά που κρύβονται μέσα στο παλιό εργοστάσιο και συνθέτουν το πιο οικολογικό έργο τέχνης. \n11:00–12:00 | για παιδιά 3–5 ετών \n12:30–13:30 | για παιδιά 6–10 ετών \nΠληροφορίες \nΚόστος συμμετοχής: 6€ / παιδί (ο συνοδός συμμετέχει δωρεάν) \nΗ προπώληση ανοίγει σταδιακά για κάθε εργαστήριο μέσω more.com \nΗ δράση υλοποιείται με την υποστήριξη του Φυσικού Αερίου Ελληνική\nΕταιρεία Ενέργειας\, μεγάλου χορηγού του Βιομηχανικού Μουσείου Φωταερίου.\nΟ ιστορικότερος πάροχος ενέργειας στην χώρα επιστρέφει στις ρίζες του\nκαι τιμώντας τη μακρά πορεία του\, συμβάλλει ενεργά στην ανάδειξη της\nβιομηχανικής ιστορίας και πολιτιστικής κληρονομιάς.
URL:https://gasmuseum.gr/event/vmf-workshops-2026/
LOCATION:«Στο Μουσείο με Πιπίλα»: Δημιουργικά εργαστήρια για βρέφη στο ΒΜΦ
CATEGORIES:Δράσεις
ATTACH;FMTTYPE=image/jpeg:https://gasmuseum.gr/wp-content/uploads/2026/01/IGM_2000x1333_049-EKPAIDEYTIKO_ΒΜΦ_10-12-25.jpg
END:VEVENT
BEGIN:VEVENT
DTSTART;TZID=Europe/Moscow:20260418T110000
DTEND;TZID=Europe/Moscow:20260502T120000
DTSTAMP:20260421T142038
CREATED:20260407T132444Z
LAST-MODIFIED:20260407T132444Z
UID:13620-1776510000-1777723200@gasmuseum.gr
SUMMARY:«Στο Μουσείο με Πιπίλα»: Δημιουργικά εργαστήρια για βρέφη στο ΒΜΦ
DESCRIPTION:«Στο Μουσείο με Πιπίλα»: Δημιουργικά εργαστήρια για βρέφη στο Βιομηχανικό Μουσείο Φωταερίου \nΤην φετινή άνοιξη\, το Βιομηχανικό Μουσείο Φωταερίου ανοίγει τις πόρτες του στους πιο μικρούς επισκέπτες\, ηλικίας 10–24 μηνών\, και τους συνοδούς τους\, παρουσιάζοντας έναν νέο κύκλο βιωματικών\, αισθητηριακών εργαστηρίων\, με τίτλο «Στο Μουσείο με Πιπίλα». Στο ιδιαίτερο περιβάλλον του κτιρίου του Νέου Υδαταερίου\, ανάμεσα σε αυθεντικά βιομηχανικά στοιχεία και μηχανήματα\, το Μουσείο μετατρέπεται σε έναν χώρο εξερεύνησης\, παιχνιδιού και πρώτης επαφής με τις αισθήσεις! \nΤο πρώτο εργαστήριο με τίτλο «Ένα μυρμήγκι μετακομίζει στο Υδαταέριο»\, που θα πραγματοποιηθεί τα Σάββατα 18 Απριλίου και 2 Μαΐου και διοργανώνεται σε συνεργασία με την ομάδα Art Can Act\, αποτελεί μια τρυφερή δια-καλλιτεχνική εμπειρία\, ειδικά σχεδιασμένη για βρέφη 10–24 μηνών και τους συνοδούς τους\, προσκαλώντας τους σε ένα παιχνίδι κίνησης και παιχνιδιού! \nΈνα μικρό μυρμηγκάκι ξεκινά το ταξίδι του μέσα σε ένα παλιό εργοστάσιο! Μαζεύει\, μεταφέρει\, αγγίζει\, ανακαλύπτει. Μέσα από τη διαδρομή του\, ένας ολόκληρος κόσμος ανοίγεται μπροστά του\, γεμάτος φυσικά υλικά\, υφές\, ήχους και αισθήσεις. Αισθητηριακά κουτιά\, τοίχοι με μυστικά σχήματα\, παιχνίδια ισορροπίας με υλικά\, ηχοσταθμοί και πολλά – πολλά άλλα περιμένουν τους μικρούς μας φίλους. \nΤο εργαστήριο εστιάζει στη σύνδεση γονέα και παιδιού\, δημιουργώντας έναν ασφαλή χώρο συν-εμπειρίας\, όπου η επαφή\, η παρατήρηση και το παιχνίδι αποκτούν πρωταγωνιστικό ρόλο. Η έμπνευση αντλείται από τον ίδιο τον βιομηχανικό χώρο\, μετατρέποντας τα χαρακτηριστικά του –όγκους\, σχήματα και υλικά– σε δημιουργικά ερεθίσματα ειδικά σχεδιασμένα για την πρώιμη ηλικία. \n*Η δράση υλοποιείται με την υποστήριξη του Φυσικού Αερίου Ελληνική Εταιρεία Ενέργειας\, μεγάλου χορηγού του ΒΜΦ. Ο ιστορικότερος πάροχος ενέργειας στην χώρα επιστρέφει στις ρίζες του και τιμώντας τη μακρά πορεία του\, συμβάλλει ενεργά στην ανάδειξη της βιομηχανικής ιστορίας και πολιτιστικής κληρονομιάς. \nΠληροφορίες: \nΗμερομηνίες: Σάββατα 18 Απριλίου & 2 Μαΐου 2026 \nΏρες: 11.00-12.00 \nΗλικίες: 10-24 μηνών \nΚόστος: 12 ευρώ (1 παιδί & 1 συνοδός*) \n*Κάθε βρέφος συνοδεύεται αποκλειστικά από έναν συνοδό. \nΚτίριο Νέο Υδαταέριο (ισόγειο) \nΚρατήσεις μέσω more.com: https://www.more.com/gr-el/tickets/children/workshop/ena-myrmigki-metakomizei-sto-ydataerio/
URL:https://gasmuseum.gr/event/sto-mouseio-me-pipila/
LOCATION:«Στο Μουσείο με Πιπίλα»: Δημιουργικά εργαστήρια για βρέφη στο ΒΜΦ
CATEGORIES:Δράσεις
ATTACH;FMTTYPE=image/jpeg:https://gasmuseum.gr/wp-content/uploads/2026/04/20231014_054_IGM_VangelisPatsialos.jpg
END:VEVENT
END:VCALENDAR