BEGIN:VCALENDAR
VERSION:2.0
PRODID:-//ΒΜΦ - ECPv6.0.7.1//NONSGML v1.0//EN
CALSCALE:GREGORIAN
METHOD:PUBLISH
X-WR-CALNAME:ΒΜΦ
X-ORIGINAL-URL:https://gasmuseum.gr
X-WR-CALDESC:ΒΜΦ - Εκδηλώσεις
REFRESH-INTERVAL;VALUE=DURATION:PT1H
X-Robots-Tag:noindex
X-PUBLISHED-TTL:PT1H
BEGIN:VTIMEZONE
TZID:Europe/Moscow
BEGIN:STANDARD
TZOFFSETFROM:+0300
TZOFFSETTO:+0300
TZNAME:MSK
DTSTART:20230101T000000
END:STANDARD
END:VTIMEZONE
BEGIN:VEVENT
DTSTART;TZID=Europe/Moscow:20230619T080000
DTEND;TZID=Europe/Moscow:20230714T160000
DTSTAMP:20260426T032922
CREATED:20230518T081549Z
LAST-MODIFIED:20230621T091722Z
UID:10424-1687161600-1689350400@gasmuseum.gr
SUMMARY:Summer Camp στην Τεχνόπολη
DESCRIPTION:Τα 10 χρόνια Βιομηχανικού Μουσείου Φωταερίου φέρνουν με ταχύτητα φωτός το πιο αγαπημένο Summer Camp στην Τεχνόπολη\, για να προσφέρει στα παιδιά 6-11 ετών ακόμη ένα συναρπαστικό καλοκαίρι στην καρδιά της πόλης. Το Βιομηχανικό Μουσείο Φωταερίου\, σε συνεργασία με το εργαστήριο παραστατικών τεχνών Artfygio\, έχουν σχεδιάσει ένα πλούσιο εκπαιδευτικό πρόγραμμα που θα προσφέρει μια αξέχαστη καλοκαιρινή εμπειρία δημιουργικής απασχόλησης στους μικρούς μας φίλους! \nΓια δέκατη χρονιά\, το Summer Camp στην Τεχνόπολη ξεκινά όταν κλείσουν τα σχολεία κι έτσι από τη Δευτέρα 19 Ιουνίου έρχονται τέσσερις συναρπαστικές εβδομάδες (πενθήμερα) με απίθανες δράσεις που αρχίζουν καθημερινά στις 08.00 το πρωί και ολοκληρώνονται στις 16.00 το απόγευμα. \nΦέτος\, τα παιδιά εμπνέονται από τα βασικά χρώματα του φωτός και συμμετέχουν σε μοναδικές εκπαιδευτικές δράσεις που υπόσχονται ανέμελες στιγμές ψυχαγωγίας. Παιχνίδια εξερεύνησης και μυστηρίου στο μουσείο\, εικαστικά εργαστήρια STEAM\, πειράματα φυσικών επιστημών\, θεατρικό παιχνίδι\, ομαδικά αθλητικά παιχνίδια στην αυλή\, προβολές ταινιών\, θεατρικές παραστάσεις σχεδιασμένες από τα ίδια τα παιδιά και εκπαιδευτικές βόλτες περιλαμβάνονται στο πρόγραμμα κάθε εβδομάδας\, «χρωματίζοντας» την πιο ξεχωριστή καλοκαιρινή εμπειρία γνώσης\, παιχνιδιού\, φαντασίας και ατέλειωτης διασκέδασης! \nΓια δέκατη χρονιά\, το Summer Camp στην Τεχνόπολη ξεκινά όταν κλείσουν τα σχολεία κι έτσι από τη Δευτέρα 19 Ιουνίου έρχονται τέσσερις συναρπαστικές εβδομάδες (πενθήμερα) με απίθανες δράσεις που εμπνέονται από τα βασικά χρώματα του φωτός\, οι οποίες αρχίζουν καθημερινά στις 08.00 το πρωί και ολοκληρώνονται στις 16.00 το απόγευμα. \nΟι θεματικές εβδομάδες του Summer Camp διαμορφώνονται ως εξής: \n1η εβδομάδα | 19-23.6 | Πράσινα άλογα! \n2η εβδομάδα | 26-30.6 | Μπλε παντού \n3η εβδομάδα | 3-7.7 | Στα κόκκινα! \n4η εβδομάδα | 10-14.7 | Λευκός καμβάς \nΔείτε το αναλυτικό πρόγραμμα των θεματικών εβδομάδων εδώ! \n  \nΠώς περνάμε την ημέρα μας στο Summer Camp; \n8:00-9:00 | Προσέλευση\nΧωριζόμαστε σε ομάδες και η μέρα ξεκινάει! \n9:00-9:30 | Ομαδικά παιχνίδια \nΟι ομάδες\, μαζί με τους υπεύθυνους παιδαγωγούς\, παίζουν κινητικά παιχνίδια στους εξωτερικούς χώρους της Τεχνόπολης για να ξεκινήσει η μέρα με τον πιο ευχάριστο τρόπο! \n9:30-11:00 | Εκπαιδευτικά προγράμματα-εργαστήρια\nΟι ομάδες παρακολουθούν εκπαιδευτικά προγράμματα και εργαστήρια σχετικά με τη θεματική της κάθε εβδομάδας\, από καλλιτέχνες και έμπειρους παιδαγωγούς. \n11:00-11:30 | Δεκατιανό\nΜικρό διάλειμμα για ελαφρύ φαγητό\, για να συνεχιστεί το παιχνίδι με ενέργεια! \n11:30-13:00 | Εκπαιδευτικά προγράμματα-εργαστήρια\nΤα εκπαιδευτικά προγράμματα και εργαστήρια συνεχίζονται… \n13:00-14:00 | Μεσημεριανό φαγητό \n14:00-14:30 | Α’ αποχώρηση  \n14:00-15:30 | Προβολές ταινιών | Ομαδικά παιχνίδια\nΠαρακολουθούμε ταινίες με ποικίλες θεματικές\, παρουσιάζουμε τις δράσεις μας στις υπόλοιπες ομάδες\, παίζουμε με τα μοναδικά επιτραπέζια παιχνίδια στρατηγικής της Εταιρείας kaissa. \n15:30-16:00 Τελευταία αποχώρηση  \n  \nΠληροφορίες \nΚόστος ανά εβδομάδα: 140€ \nΣτα κόστη συμπεριλαμβάνονται: το σύνολο των εκπαιδευτικών δραστηριοτήτων\, οι εκπαιδευτικές εκδρομές\, το δεκατιανό (φρούτα\, αλμυρά και γλυκά σνακ)\, το μεσημεριανό μαγειρευτό φαγητό\, η παρουσία ιατρού στον χώρο καθ’ όλη τη διάρκεια του camp. \nΚρατήσεις: Από την Τρίτη 23 Μαΐου στα τηλ. 2130109325\, 2130109300 (εσωτ. 336\, 307)\, Δε-Πα 11:00-16:00 \n**Με την έναρξη των κρατήσεων\, ρωτήστε μας για εκπτωτικά πακέτα σε αδέρφια και για συμμετοχή σε περισσότερες από μία εβδομάδες\n**Ειδικές τιμές για ανέργους και πολύτεκνους (για περιορισμένες θέσεις) \n*** Το Βιομηχανικό Μουσείο Φωταερίου συμμετέχει στη δράση «ΠΟΛΙΤΙΣΤΙΚΟ SUMMER CAMP 2023»\, στο πλαίσιο υλοποίησης της πράξης: «Δίκτυο Κοινωνικής Προστασίας της Αθήνας – Open Social Net» για τη στήριξη μονογονεϊκών οικογενειών σε δυσχερή οικονομική θέση που διαβιούν στο Δήμο της Αθήνας. \nΕπιπλέον πληροφορίες: \nΣτο Summer Camp 2023\, το μεσημεριανό φαγητό παρέχεται από την έμπειρη ομάδα Pala Slow Urban Food. Πρόκειται για διατροφικά ισορροπημένο\, μαγειρευτό φαγητό από φρέσκα υλικά\, λαμβάνοντας υπόψη τις διαχρονικά αγαπημένες γεύσεις των παιδιών! Από το μεσημεριανό φαγητό δεν θα λείψουν οι φρέσκιες σαλάτες\, τα νόστιμα ζυμαρικά\, η χειροποίητη πίτσα και πολλά άλλα νόστιμα πιάτα μεσογειακής διατροφής. \nΤο δεκατιανό περιλαμβάνει γλυκά και αλμυρά σνακ\, προσφορά των προϊόντων “Όλυμπος Ταχίνι”\, “Όλυμπος Super Spread Φυστικοβούτυρο” και Ελληνικό Μέλι “Άρωμα Μέλισσας”. \n 
URL:https://gasmuseum.gr/event/summer-camp-vmf/
LOCATION:Μικροί κηπουροί με πινέλα
CATEGORIES:Δράσεις,Προηγούμενες Δράσεις
ATTACH;FMTTYPE=image/jpeg:https://gasmuseum.gr/wp-content/uploads/2023/05/2000x1333_summercamp23.jpg
END:VEVENT
BEGIN:VEVENT
DTSTART;TZID=Europe/Moscow:20230528T110000
DTEND;TZID=Europe/Moscow:20230528T123000
DTSTAMP:20260426T032922
CREATED:20230421T111936Z
LAST-MODIFIED:20230516T122427Z
UID:9051-1685271600-1685277000@gasmuseum.gr
SUMMARY:Βιομηχανικές διαδρομές στην πόλη: «Ιστορίες από το Γκαζοχώρι»
DESCRIPTION:Ποιοι ήταν οι πρώτοι κάτοικοι που έμειναν στη γειτονιά του Γκαζοχωρίου; Πώς να ήταν οι συνθήκες διαβίωσης στην περιοχή όταν το παλιό εργοστάσιο φωταερίου λειτουργούσε; Πού βρίσκονταν τα μέγαρα των βιομηχάνων της εποχής και ποια τα αρχιτεκτονικά χαρακτηριστικά τους; \nΤο Βιομηχανικό Μουσείο Φωταερίου σε συνεργασία με τον επίκουρο καθηγητή ιστορίας στο Πανεπιστήμιο Δυτικής Αττικής Γιάννη Στογιαννίδη και την Αστική μη Κερδοσκοπική Εταιρεία Monumenta\, διοργανώνει τέσσερις βιομηχανικούς περιπάτους με δύο ξεχωριστές θεματικές\, προσκαλώντας ενήλικες και οικογένειες με παιδιά από 12 ετών να ανακαλύψουν τη βιομηχανική ιστορία της πόλης με συναρπαστικό τρόπο. \nΜε έμπνευση το παλιό εργοστάσιο φωταερίου\, οι βιομηχανικές διαδρομές υπόσχονται να ταξιδέψουν τους συμμετέχοντες στον χρόνο και στον αστικό ιστό της Αθήνας\, φέρνοντάς τους σε επαφή με τη σύγχρονη ιστορία και αρχιτεκτονική\, τη βιομηχανική κληρονομιά και την αξιοποίηση των βιομηχανικών μνημείων στην καρδιά της πόλης. \nΠρώτη Βιομηχανική Διαδρομή: «Ιστορίες από το Γκαζοχώρι» \nΤην Κυριακή 28 Μαΐου\, από τις 11.00 και για περίπου μιάμιση ώρα\, οι συμμετέχοντες μαζί τον ιστορικό Γιάννη Στογιαννίδη θα γνωρίσουν την ιστορία του παλιού εργοστασίου που έδωσε φως και ενέργεια στην Αθήνα για σχεδόν 130 χρόνια\, όπως και την ιστορία και τα ιδιαίτερα δημογραφικά χαρακτηριστικά της γειτονιάς γύρω από το εργοστάσιο: το Γκαζοχώρι. \nΜε αφετηρία την πλατεία Κουλούρη\, στο τρίγωνο της Τριπτολέμου στην περιοχή του Κεραμεικού\, οι συμμετέχοντες θα γνωρίσουν πώς δημιουργήθηκε η περιοχή γύρω από το εργοστάσιο και πώς πήρε το όνομά της\, ποιες οι κρυφές γωνιές και ποια τα κοινωνικά της χαρακτηριστικά καθώς και την εξέλιξή της μέχρι σήμερα. Η περιήγηση θα συνεχίσει ως την «καρδιά» του εργοστασίου φωταερίου\, τους Παλαιούς Φούρνους. Εκεί\, οι συμμετέχοντες θα ανακαλύψουν βήμα-βήμα τα μυστικά των κτιρίων του παλιού εργοστασίου: από τον μηχανολογικό του εξοπλισμό και τον ρόλο των εργαζομένων\, μέχρι τον τρόπο διοίκησης του πρώτου εργοστασίου παραγωγής ενέργειας στην Ελλάδα. Η διαδρομή θα ολοκληρωθεί στο κτίριο του Νέου Υδαταερίου\, όπου οι συμμετέχοντες\, μέσω της εφαρμογής επαυξημένης πραγματικότητας “Αthens Industry”\, θα ταξιδέψουν στην ιστορία της αθηναϊκής βιομηχανίας ανακαλύπτοντας εμβληματικές βιομηχανίες της πόλης. \n  \nΠληροφορίες\nΣημείο Συνάντησης: Μετρό Σταθμός «Κεραμεικός» (Έξοδος: Τεχνόπολη)\nΣυμμετοχή: Δωρεάν με κράτηση θέσης στο viva.gr \n  \nΟι επετειακές δράσεις στο πλαίσιο των «10 χρόνων ΒΜΦ» πραγματοποιούνται με Μεγάλο Χορηγό το Φυσικό Αέριο Ελληνική Εταιρεία Ενέργειας.
URL:https://gasmuseum.gr/event/viomixanikes-diadromes-stin-poli/
LOCATION:Μικροί κηπουροί με πινέλα
CATEGORIES:Δράσεις,Προηγούμενες Δράσεις
ATTACH;FMTTYPE=image/jpeg:https://gasmuseum.gr/wp-content/uploads/2023/04/ΓΚΑΖΟΧΩΡΙ.jpg
END:VEVENT
BEGIN:VEVENT
DTSTART;TZID=Europe/Moscow:20230528T110000
DTEND;TZID=Europe/Moscow:20230528T120000
DTSTAMP:20260426T032922
CREATED:20230421T124417Z
LAST-MODIFIED:20230607T110004Z
UID:9066-1685271600-1685275200@gasmuseum.gr
SUMMARY:Στην Αυλή του Εργοστασίου
DESCRIPTION:Την Κυριακή 28 Μαΐου\, οι μικροί μας φίλοι εμπνέονται από το μαγευτικό μουσικό κλίμα τoυ Athens Jazz Festival και δημιουργούν τη δική τους μουσική Τεχνόπολη! Τι θα συμβεί αν τα κτίρια του παλιού εργοστασίου φωταερίου μεταμορφωθούν σε μουσικά όργανα; Τι ήχο βγάζει ένα φλάουτο\, ένα τύμπανο ή ένα τσέλο; Ανακαλύπτουμε τα κτίρια και μηχανήματα του παλιού εργοστασίου και κατασκευάζουμε με ανακυκλώσιμα υλικά την πιο ξεχωριστή\, μουσική ορχήστρα! Ετοιμαστείτε για μια απολαυστική εικαστική περιπέτεια… στην αυλή του εργοστασίου! \n  \nΠληροφορίες\nΏρες: 11.00-12.00\, 12.00-13.00\nMeeting point: Νέο Υδαταέριο\, δίπλα από το Café της Τεχνόπολης\nΓια παιδιά από 3 – 9 ετών\nΚόστος συμμετοχής: 6€/παιδί\nΑπαραίτητες κρατήσεις στο τηλ:213 0109325\n*Τα παιδιά 3-7 ετών θα πρέπει να συνοδεύονται από τους γονείς τους.
URL:https://gasmuseum.gr/event/stin-avli-tou-ergostasiou/
LOCATION:Μικροί κηπουροί με πινέλα
CATEGORIES:Δράσεις,Προηγούμενες Δράσεις
ATTACH;FMTTYPE=image/jpeg:https://gasmuseum.gr/wp-content/uploads/2023/04/2000x1333_DRASI_avli.jpg
END:VEVENT
BEGIN:VEVENT
DTSTART;TZID=Europe/Moscow:20230526T050000
DTEND;TZID=Europe/Moscow:20230526T060000
DTSTAMP:20260426T032922
CREATED:20210914T222411Z
LAST-MODIFIED:20230905T102401Z
UID:844-1685077200-1685080800@gasmuseum.gr
SUMMARY:Απογευματινές ξεναγήσεις ενηλίκων στο ΒΜΦ
DESCRIPTION:Στο πλαίσιο του εορτασμού των «10 χρόνων ΒΜΦ»\, το Βιομηχανικό Μουσείο Φωταερίου προσκαλεί τους ενήλικους επισκέπτες να επισκεφθούν τους χώρους του παλιού εργοστασίου φωταερίου της Αθήνας και να ανακαλύψουν την ιστορία του μέσα από απογευματινές ξεναγήσεις με ελεύθερη συμμετοχή και “early drink”! \nΜαζί με τους έμπειρους ανθρώπους του μουσείου\, ακολουθούμε τη γραμμή παραγωγής του φωταερίου\, θαυμάζουμε τον σπάνιο μηχανολογικό εξοπλισμό του 19ου αιώνα και ανακαλύπτουμε τον ρόλο των εργαζομένων στο παλιό εργοστάσιο και τις συνθήκες ζωής στην περιοχή του Γκαζιού. \nΗ ξενάγηση στο Βιομηχανικό Μουσείο Φωταερίου είναι μία συνολική εμπειρία για όλες τις αισθήσεις: Θα έρθουμε σε επαφή με τις μυρωδιές του εργοστασίου\, θα ακούσουμε τις ιστορίες των εργαζομένων μέσα από ηχητικά τεκμήρια που θα μας «ξαφνιάσουν» και θα αγγίξουμε τις μηχανές που λειτουργούσαν μέχρι πρόσφατα. Η εμπειρία εμπλουτίζεται με νέες τεχνολογίες\, 3D προβολές\, σε συνδυασμό με ιστορικά τεκμήρια και μοναδικό οπτικοακουστικό υλικό. \nΟι απογευματινές ξεναγήσεις ξεκινούν στις 19.00 και διαρκούν περίπου μία ώρα. Οι χώροι του μουσείου θα παραμείνουν ανοιχτοί έως τις 21.00 για τους επισκέπτες που επιθυμούν να παρακολουθήσουν το αρχειακό οπτικοακουστικό υλικό\, να ακούσουν τα αποσπάσματα των προφορικών συνεντεύξεων των εργαζομένων στα διάφορα σημεία της μουσειακής διαδρομής\, να ανακαλύψουν την αισθητηριακή διαδρομή και φυσικά να χαρούν το ποτό τους μέσα στις εγκαταστάσεις του πρώτου εργοστασίου παραγωγής ενέργειας στην Ελλάδα! \n  \nΠληροφορίες\nΣυμμετοχή: Η συμμετοχή στις απογευματινές ξεναγήσεις είναι δωρεάν. \nΣτη δωρεάν δράση δεν συμπεριλαμβάνεται το ποτό. Οι επισκέπτες μπορούν να προμηθευτούν το ποτό τους από το Technopolis Café.\nΚράτηση θέσης μέσω viva.gr\n*Για περιορισμένο αριθμό συμμετοχών. \n  \nΟι επετειακές δράσεις στο πλαίσιο των «10 χρόνων ΒΜΦ» πραγματοποιούνται με Μεγάλο Χορηγό το Φυσικό Αέριο Ελληνική Εταιρεία Ενέργειας.
URL:https://gasmuseum.gr/event/apogevmatines-xenagiseis-vmf/
LOCATION:Μικροί κηπουροί με πινέλα
CATEGORIES:Δράσεις,Προηγούμενες Δράσεις
ATTACH;FMTTYPE=image/jpeg:https://gasmuseum.gr/wp-content/uploads/2021/09/2000x1333_DRASI_apogevmatines-xenagiseis3-1.jpg
END:VEVENT
BEGIN:VEVENT
DTSTART;TZID=Europe/Moscow:20230520T210000
DTEND;TZID=Europe/Moscow:20230520T235800
DTSTAMP:20260426T032922
CREATED:20230515T110700Z
LAST-MODIFIED:20230520T110655Z
UID:9722-1684616400-1684627080@gasmuseum.gr
SUMMARY:Vassilikos «The Grand Duet»: Η συναυλία-πάρτι για τα «10 χρόνια ΒΜΦ»
DESCRIPTION:Στο μεγάλο μουσικό πάρτι γενεθλίων του μουσείου\, με αφορμή τα «10 χρόνια ΒΜ»\, που θα γίνει το Σάββατο 20 Μαΐου στις 21:00\, ο Vassilikos έρχεται στην Τεχνόπολη για μια ξεχωριστή συναυλία με δωρεάν είσοδο στην οποία ο αγαπημένος καλλιτέχνης θα παρουσιάσει το project «The Grand Duet» που μοιράζεται με τον Γιώργο Τριανταφύλλου. \nΤο «The Grand Duet» αποτελεί μια ιδέα που γεννήθηκε πριν την καραντίνα και υλοποιήθηκε μετά από αυτή\, ένα μουσικό project που μεταφέρει όλη την ενέργεια και το πάθος που συσσωρεύεται τον καιρό της απομόνωσης. Με τον Γιώργο Τριανταφύλλου να τον συνοδεύει στις κιθάρες και στα πλήκτρα\, αλλά και με τον υπολογιστή να συμπληρώνει σε backing track όλα τα όργανα μιας ολοκληρωμένης μπάντας\, ο Vassilikos θα παρουσιάσει μια ανεπανάληπτη μουσική εμπειρία που ενώνει με μοναδικό τρόπο το χθες με το σήμερα\, καθώς όλα τα κομμάτια είναι μιξαρισμένα ειδικά για το πρότζεκτ\, δημιουργώντας ένα ηχητικά δεμένο αποτέλεσμα που μαγνητίζει. \nΔιαχρονικά πλέον κομμάτια των Raining Pleasure παίζονται όπως τα αγαπήσαμε αλλά και με αλλαγμένο ήχο\, επανεκτελέσεις εμβληματικών τραγουδιών από το άλμπουμ Vintage (2009)\, όπως τα You are my destiny και I who have nothing\, ακούγονται στις studio εκτελέσεις τους και «πειράζονται» δημιουργικά εκ νέου σε διαφορετικές εκδοχές\, ενώ οι διασκευές του Βασίλη Τσιτσάνη όπως τις λατρέψαμε στο δίσκο Sunday Cloudy Sunday (2013) ενισχύουν τον ανατρεπτικό χαρακτήρα του live. Από το set list δεν θα λείψει και το Amazing Grey\, ο δίσκος που κυκλοφόρησε το 2019 και έχει τη δική του θέση στις εμφανίσεις του Vassilikos «The Grand Duet»\, καθώς δημιουργεί μια ιδιαίτερη pop ατμόσφαιρα με σκοτεινά υποστρώματα που θα μας παρασύρει. \nΕπανερμηνεύοντας κλασικά κομμάτια\, από τον Χατζιδάκι και τον Τσιτσάνη μέχρι τους Beatles\, o Vassilikos είναι ένας καλλιτέχνης που με τη μουσική του καταφέρνει να ενώσει δημιουργικά το παρελθόν με το παρόν. Το ξεχωριστό live του μοιάζει με ένα απολαυστικό ταξίδι στον χρόνο που ταιριάζει απόλυτα στον χαρακτήρα του Βιομηχανικού Μουσείου Φωταερίου\, οι πολυσυλλεκτικές δράσεις του οποίου συνεχίζουν να τιμούν και να κρατούν ζωντανή τη μακρά ιστορία του παλιού εργοστασίου φωταερίου της Αθήνας. \n  \nΠληροφορίες\nΟι πόρτες ανοίγουν στις 18.00. Οι μουσειακοί χώροι θα είναι ανοιχτοί και επισκέψιμοι για το κοινό έως τις 20.00\nΕίσοδος ελεύθερη \nΟι επετειακές δράσεις στο πλαίσιο των «10 χρόνων ΒΜΦ» πραγματοποιούνται με Μεγάλο Χορηγό το Φυσικό Αέριο Ελληνική Εταιρεία Ενέργειας.
URL:https://gasmuseum.gr/event/vassilikos-the-grand-duet-%ce%b7-%cf%83%cf%85%ce%bd%ce%b1%cf%85%ce%bb%ce%af%ce%b1-%cf%80%ce%ac%cf%81%cf%84%ce%b9-%ce%b3%ce%b9%ce%b1-%cf%84%ce%b1-10-%cf%87%cf%81%cf%8c%ce%bd%ce%b9/
LOCATION:Μικροί κηπουροί με πινέλα
CATEGORIES:Δράσεις,Προηγούμενες Δράσεις
ATTACH;FMTTYPE=image/jpeg:https://gasmuseum.gr/wp-content/uploads/2023/05/Vassilikos_Eftychia-Vlachou.jpg
END:VEVENT
BEGIN:VEVENT
DTSTART;TZID=Europe/Moscow:20230518T191500
DTEND;TZID=Europe/Moscow:20230518T235800
DTSTAMP:20260426T032922
CREATED:20230517T091048Z
LAST-MODIFIED:20230517T091048Z
UID:10397-1684437300-1684454280@gasmuseum.gr
SUMMARY:To Βιομηχανικό Μουσείο Φωταερίου γιορτάζει τη Διεθνή Ημέρα Μουσείων
DESCRIPTION:Το Βιομηχανικό Μουσείο Φωταερίου της Τεχνόπολης Δήμου Αθηναίων κλείνει φέτος τα 10 του χρόνια και δεν σταματά να το γιορτάζει με μια ξεχωριστή σειρά επετειακών εκδηλώσεων. Σε μία από αυτές\, οι πόρτες του ΒΜΦ ανοίγουν για μια σειρά από Πέμπτες και η ομάδα του μουσείου προσκαλεί τους ενήλικες επισκέπτες να ανακαλύψουν το σπάνιο αυτό βιομηχανικό μνημείο μέσα από μια ιδιαίτερη απογευματινή ξενάγηση με ελεύθερη συμμετοχή που συνοδεύεται από early drink. Τι γίνεται\, όμως\, όταν μία από αυτές τις ξεναγήσεις συμπίπτει με τη Διεθνή Ημέρα Μουσείων που γιορτάζεται κάθε χρόνο στις 18 Μαΐου; \nΣτο πλαίσιο του εορτασμού της ΔΗΜ που φέτος έχει θέμα «Μουσεία\, Αειφορία και Ποιότητα Ζωής»\, η απογευματινή ξενάγηση της Πέμπτης 18 Μαΐου γίνεται πιο εορταστική από ποτέ\, καθώς η περιήγηση των ενηλίκων στις εγκαταστάσεις του εργοστασίου φωταερίου θα κλείσει με ένα μοναδικό DJ set που θα μας ξεσηκώσει! \nΑπό τις 19.15 που ξεκινά η ξενάγηση\, οι επισκέπτες μαζί με τους έμπειρους ανθρώπους του Μουσείου ακολουθούν τη γραμμή παραγωγής του φωταερίου\, θαυμάζουν τον σπάνιο μηχανολογικό εξοπλισμό του 19ου αιώνα και ανακαλύπτουν τον ρόλο των εργαζομένων στο παλιό εργοστάσιο και τις συνθήκες ζωής στην περιοχή του Γκαζιού. Ακόμη\, ακούν τα αποσπάσματα προφορικών συνεντεύξεων των εργαζομένων στα διάφορα σημεία της μουσειακής διαδρομής και παρακολουθούν το πλούσιο αρχειακό οπτικοακουστικό υλικό του παλιού εργοστασίου. Και βέβαια\, η ξενάγηση γίνεται ακόμα πιο εορταστική\, αφού κατά τη διάρκειά της οι επισκέπτες μπορούν να απολαύσουν το ποτό τους μέσα στους μουσειακούς χώρους\, το οποίο μπορούν να προμηθευτούν από το Technopolis Café. \nΜετά το τέλος της ξενάγησης\, το γιορτινό κλίμα μεταφέρεται στο κτίριο Νέο Υδαταέριο\, ένα από τα πιο σύγχρονα κτίρια του εργοστασίου φωταερίου της Αθήνας που διατηρεί σχεδόν ακέραιο το μηχανολογικό του εξοπλισμό. Εκεί\, με θέα 360 μοίρες στην Αθήνα\, θα ξεκινήσει στις 21.00 ένα μοναδικό DJ set από τον JJ Pallis για τον εορτασμό της Διεθνούς Ημέρας Μουσείων. \nΟ θεσμός της Διεθνούς Ημέρας Μουσείων θεσπίστηκε το 1977 με σκοπό την ανάδειξη του σημαντικού ρόλου των μουσείων στην πολιτική\, κοινωνική και πολιτιστική ζωή του κάθε τόπου. Διαβάστε περισσότερα για το πρόγραμμα των δράσεων που έχουν ετοιμάσει τα ελληνικά μουσεία με αφορμή τη φετινή ΔΗΜ εδώ. \nΠληροφορίες\nΏρα έναρξης ξενάγησης: 19.15\nΔιάρκεια: 60-70’\nΣημείο συνάντησης: Κεντρική Καμινάδα\nΏρα έναρξης DJ set: 21.00\nΧώρος διεξαγωγής: Νέο Υδαταέριο\nΣυμμετοχή: Η συμμετοχή στην ξενάγηση είναι δωρεάν (δεν συμπεριλαμβάνεται το ποτό).\nΚράτηση θέσης μέσω \nviva.gr \n*Για περιορισμένο αριθμό συμμετοχών.
URL:https://gasmuseum.gr/event/vmf-imera-mouseion/
LOCATION:Μικροί κηπουροί με πινέλα
CATEGORIES:Δράσεις,Προηγούμενες Δράσεις
ATTACH;FMTTYPE=image/jpeg:https://gasmuseum.gr/wp-content/uploads/2023/05/International-Museum-Day_New-Watergas_VangelisPatsialos.jpg
END:VEVENT
BEGIN:VEVENT
DTSTART;TZID=Europe/Moscow:20230518T190000
DTEND;TZID=Europe/Moscow:20230518T200000
DTSTAMP:20260426T032922
CREATED:20210915T222410Z
LAST-MODIFIED:20230516T122013Z
UID:841-1684436400-1684440000@gasmuseum.gr
SUMMARY:Απογευματινές ξεναγήσεις ενηλίκων στο ΒΜΦ
DESCRIPTION:Στο πλαίσιο του εορτασμού των «10 χρόνων ΒΜΦ»\, το Βιομηχανικό Μουσείο Φωταερίου προσκαλεί τους ενήλικους επισκέπτες να επισκεφθούν τους χώρους του παλιού εργοστασίου φωταερίου της Αθήνας και να ανακαλύψουν την ιστορία του μέσα από απογευματινές ξεναγήσεις με ελεύθερη συμμετοχή και “early drink”! \nΜαζί με τους έμπειρους ανθρώπους του μουσείου\, ακολουθούμε τη γραμμή παραγωγής του φωταερίου\, θαυμάζουμε τον σπάνιο μηχανολογικό εξοπλισμό του 19ου αιώνα και ανακαλύπτουμε τον ρόλο των εργαζομένων στο παλιό εργοστάσιο και τις συνθήκες ζωής στην περιοχή του Γκαζιού. \nΗ ξενάγηση στο Βιομηχανικό Μουσείο Φωταερίου είναι μία συνολική εμπειρία για όλες τις αισθήσεις: Θα έρθουμε σε επαφή με τις μυρωδιές του εργοστασίου\, θα ακούσουμε τις ιστορίες των εργαζομένων μέσα από ηχητικά τεκμήρια που θα μας «ξαφνιάσουν» και θα αγγίξουμε τις μηχανές που λειτουργούσαν μέχρι πρόσφατα. Η εμπειρία εμπλουτίζεται με νέες τεχνολογίες\, 3D προβολές\, σε συνδυασμό με ιστορικά τεκμήρια και μοναδικό οπτικοακουστικό υλικό. \nΟι απογευματινές ξεναγήσεις ξεκινούν στις 19.00 και διαρκούν περίπου μία ώρα. Οι χώροι του μουσείου θα παραμείνουν ανοιχτοί έως τις 21.00 για τους επισκέπτες που επιθυμούν να παρακολουθήσουν το αρχειακό οπτικοακουστικό υλικό\, να ακούσουν τα αποσπάσματα των προφορικών συνεντεύξεων των εργαζομένων στα διάφορα σημεία της μουσειακής διαδρομής\, να ανακαλύψουν την αισθητηριακή διαδρομή και φυσικά να χαρούν το ποτό τους μέσα στις εγκαταστάσεις του πρώτου εργοστασίου παραγωγής ενέργειας στην Ελλάδα! \n  \nΠληροφορίες\nΣυμμετοχή: Η συμμετοχή στις απογευματινές ξεναγήσεις είναι δωρεάν. \nΣτη δωρεάν δράση δεν συμπεριλαμβάνεται το ποτό. Οι επισκέπτες μπορούν να προμηθευτούν το ποτό τους από το Technopolis Café.\nΚράτηση θέσης μέσω viva.gr\n*Για περιορισμένο αριθμό συμμετοχών. \nΟι επετειακές δράσεις στο πλαίσιο των «10 χρόνων ΒΜΦ» πραγματοποιούνται με Μεγάλο Χορηγό το Φυσικό Αέριο Ελληνική Εταιρεία Ενέργειας.
URL:https://gasmuseum.gr/event/paidika-party-2/
LOCATION:Μικροί κηπουροί με πινέλα
CATEGORIES:Δράσεις,Προηγούμενες Δράσεις
ATTACH;FMTTYPE=image/jpeg:https://gasmuseum.gr/wp-content/uploads/2021/09/2000x1333_DRASI_apogevmatines-xenagiseis2-1.jpg
END:VEVENT
BEGIN:VEVENT
DTSTART;TZID=Europe/Moscow:20230514T120000
DTEND;TZID=Europe/Moscow:20230514T140000
DTSTAMP:20260426T032922
CREATED:20230515T110852Z
LAST-MODIFIED:20230515T141051Z
UID:9726-1684065600-1684072800@gasmuseum.gr
SUMMARY:Μια βόλτα στο Μουσείο με σακίδιο
DESCRIPTION:Την Κυριακή 14 Μαΐου ετοιμαζόμαστε για «Μια βόλτα στο Μουσείο με σακίδιο» στο Βιομηχανικό Μουσείο Φωταερίου. Τα παιδιά ηλικίας 4-11 ετών ανακαλύπτουν μαζί με τις οικογένειές τους το παλιό εργοστάσιο φωταερίου με τον πιο διασκεδαστικό τρόπο\, με «ξεναγό» το διαδραστικό κίτρινο σακίδιο που κάνει την επίσκεψη… παιχνιδάκι! \nΕιδικά σχεδιασμένο για δύο ξεχωριστές ηλικιακές ομάδες\, το σακίδιο για τα παιδιά 4-6 ετών βασίζεται στην ανακάλυψη της πληροφορίας μέσα από τις αισθήσεις και τη διάδραση\, ακολουθώντας την πρωτότυπη αισθητηριακή διαδρομή του μουσείου και τα κίτρινα κουτιά\, ενώ για τα παιδιά 7-11 ετών το διαδραστικό σακίδιο εστιάζει στα κρυμμένα μηχανήματα και στις σπάνιες εφευρέσεις που κρύβονται μέσα στο παλιό εργοστάσιο φωταερίου. \nΧάρτες\, αυτοκόλλητα\, παιχνίδια μνήμης\, παζλ και πολλά άλλα κρύβονται στο σακίδιο και θα βοηθούν τα παιδιά στην διασκεδαστική περιήγηση\, ενώ\, ειδικά για αυτήν την Κυριακή\, από τις 12.00 έως τις 14.00\, οι άνθρωποι του μουσείου θα βρίσκονται στο χώρο για να μας διευκολύνουν στην αποκάλυψη όλων των μυστικών του σακιδίου. \nΔανειζόμαστε το κίτρινο σακίδιο και η ανακάλυψη ξεκινά! \n*Ο επισκέπτης μπορεί να δανειστεί το διαδραστικό σακίδιο από το Industrial Gas Museum Shop ή από το Φυλάκιο της Τεχνόπολης\, αφήνοντας την ταυτότητά του\, και να το επιστρέψει πάλι εκεί αφού ολοκληρώσει τη διαδρομή του στο μουσείο. \nΠληροφορίες \nΠότε: Κυριακή 14 Μαΐου \nΏρες: 12.00 έως 14.00 \nΕίσοδος: €2 \nΚόστος χρήσης σακιδίου: €4
URL:https://gasmuseum.gr/event/%ce%bc%ce%b9%ce%b1-%ce%b2%cf%8c%ce%bb%cf%84%ce%b1-%cf%83%cf%84%ce%bf-%ce%bc%ce%bf%cf%85%cf%83%ce%b5%ce%af%ce%bf-%ce%bc%ce%b5-%cf%83%ce%b1%ce%ba%ce%af%ce%b4%ce%b9%ce%bf/
LOCATION:Μικροί κηπουροί με πινέλα
CATEGORIES:Δράσεις,Προηγούμενες Δράσεις
ATTACH;FMTTYPE=image/jpeg:https://gasmuseum.gr/wp-content/uploads/2023/05/ΒΟΛΤΑ-ΜΕ-ΣΑΚΙΔΙΟ-scaled.jpg
END:VEVENT
BEGIN:VEVENT
DTSTART;TZID=Europe/Moscow:20230514T110000
DTEND;TZID=Europe/Moscow:20230514T130000
DTSTAMP:20260426T032922
CREATED:20230515T111018Z
LAST-MODIFIED:20230515T141108Z
UID:9730-1684062000-1684069200@gasmuseum.gr
SUMMARY:Μικροί κηπουροί με πινέλα
DESCRIPTION:Την Κυριακή 14 Μαΐου οι «Μικροί Κηπουροί με πινέλα» αναλαμβάνουν δράση! Το αγαπημένο υπαίθριο εικαστικό εργαστήριο του Βιομηχανικού Μουσείου Φωταερίου προσκαλεί οικογένειες με παιδιά 3-9 ετών να παίξουν και να διασκεδάσουν με δημιουργικό τρόπο\, συνδυάζοντας τη ζωγραφική με την κηπουρική. Γεμάτοι ανοιξιάτικη διάθεση και μπόλικη φαντασία\, και φυσικά με τα κατάλληλα ρούχα\, οι μικροί μας φίλοι απασχολούνται δημιουργικά ζωγραφίζοντας με τα πινέλα τους μικρές κεραμικές γλάστρες\, στις οποίες στη συνέχεια θα μεταφυτεύσουν πολύχρωμα λουλούδια\, μαθαίνοντας να είναι υπεύθυνοι για τη φροντίδα τους. \n Πληροφορίες \nΠότε: Κυριακή 14 Μαΐου \nΏρες: 11.00-12.00 & 12.00-13.00 \nΧώρος: Προαύλιο του Skywalk  \nΚόστος συμμετοχής: €7 / παιδί \nΑπαραίτητες κρατήσεις στο τηλ: 2130109325
URL:https://gasmuseum.gr/event/%ce%bc%ce%b9%ce%ba%cf%81%ce%bf%ce%af-%ce%ba%ce%b7%cf%80%ce%bf%cf%85%cf%81%ce%bf%ce%af-%ce%bc%ce%b5-%cf%80%ce%b9%ce%bd%ce%ad%ce%bb%ce%b1/
LOCATION:Μικροί κηπουροί με πινέλα
CATEGORIES:Δράσεις,Προηγούμενες Δράσεις
ATTACH;FMTTYPE=image/jpeg:https://gasmuseum.gr/wp-content/uploads/2023/05/Μικροί-κηπουροί-με-πινέλα-scaled.jpg
END:VEVENT
BEGIN:VEVENT
DTSTART;TZID=Europe/Moscow:20230511T190000
DTEND;TZID=Europe/Moscow:20230511T200000
DTSTAMP:20260426T032922
CREATED:20210914T222412Z
LAST-MODIFIED:20230516T112946Z
UID:850-1683831600-1683835200@gasmuseum.gr
SUMMARY:Απογευματινές ξεναγήσεις ενηλίκων στο ΒΜΦ
DESCRIPTION:Στο πλαίσιο του εορτασμού των «10 χρόνων ΒΜΦ»\, το Βιομηχανικό Μουσείο Φωταερίου προσκαλεί τους ενήλικους επισκέπτες να επισκεφθούν τους χώρους του παλιού εργοστασίου φωταερίου της Αθήνας και να ανακαλύψουν την ιστορία του μέσα από απογευματινές ξεναγήσεις με ελεύθερη συμμετοχή και “early drink”! \nΜαζί με τους έμπειρους ανθρώπους του μουσείου\, ακολουθούμε τη γραμμή παραγωγής του φωταερίου\, θαυμάζουμε τον σπάνιο μηχανολογικό εξοπλισμό του 19ου αιώνα και ανακαλύπτουμε τον ρόλο των εργαζομένων στο παλιό εργοστάσιο και τις συνθήκες ζωής στην περιοχή του Γκαζιού. \nΗ ξενάγηση στο Βιομηχανικό Μουσείο Φωταερίου είναι μία συνολική εμπειρία για όλες τις αισθήσεις: Θα έρθουμε σε επαφή με τις μυρωδιές του εργοστασίου\, θα ακούσουμε τις ιστορίες των εργαζομένων μέσα από ηχητικά τεκμήρια που θα μας «ξαφνιάσουν» και θα αγγίξουμε τις μηχανές που λειτουργούσαν μέχρι πρόσφατα. Η εμπειρία εμπλουτίζεται με νέες τεχνολογίες\, 3D προβολές\, σε συνδυασμό με ιστορικά τεκμήρια και μοναδικό οπτικοακουστικό υλικό. \nΟι απογευματινές ξεναγήσεις ξεκινούν στις 19.00 και διαρκούν περίπου μία ώρα. Οι χώροι του μουσείου θα παραμείνουν ανοιχτοί έως τις 21.00 για τους επισκέπτες που επιθυμούν να παρακολουθήσουν το αρχειακό οπτικοακουστικό υλικό\, να ακούσουν τα αποσπάσματα των προφορικών συνεντεύξεων των εργαζομένων στα διάφορα σημεία της μουσειακής διαδρομής\, να ανακαλύψουν την αισθητηριακή διαδρομή και φυσικά να χαρούν το ποτό τους μέσα στις εγκαταστάσεις του πρώτου εργοστασίου παραγωγής ενέργειας στην Ελλάδα! \nΣυμμετοχή: Η συμμετοχή στις απογευματινές ξεναγήσεις είναι δωρεάν. Στη δωρεάν δράση δεν συμπεριλαμβάνεται το ποτό. Οι επισκέπτες μπορούν να προμηθευτούν το ποτό τους από το Technopolis Café. \nΚράτηση θέσης μέσω viva.gr\n*Για περιορισμένο αριθμό συμμετοχών.
URL:https://gasmuseum.gr/event/independent-japanese-antiquity-art-gallery/
LOCATION:Μικροί κηπουροί με πινέλα
CATEGORIES:Δράσεις,Προηγούμενες Δράσεις
ATTACH;FMTTYPE=image/jpeg:https://gasmuseum.gr/wp-content/uploads/2021/09/2000x1333_DRASI_apogevmatines-xenagiseis-1.jpg
END:VEVENT
END:VCALENDAR